BEGIN:VCALENDAR
VERSION:2.0
PRODID:Greensboro, NC Calendar Creator
METHOD:PUBLISH
BEGIN:VEVENT
DTSTAMP:20180109T031834
DTSTART:20120409T183000
DTEND:20120409T200000
SUMMARY:Family Movie Night
DESCRIPTION:<strong><em>Puss in Boots</em></strong>, rated PG, 90 minutes.
X-ALT-DESC;FMTTYPE=text/html:<strong><em>Puss in Boots</em></strong>, rated PG, 90 minutes.
LOCATION:Hemphill Branch Library\, 2301 West Vandalia Road Greensboro\, North Carolina 27407
CLASS:PUBLIC
END:VEVENT
END:VCALENDAR
