BEGIN:VCALENDAR
VERSION:2.0
PRODID:Greensboro, NC Calendar Creator
METHOD:PUBLISH
BEGIN:VEVENT
DTSTAMP:20180109T031834
DTSTART:20120402T183000
DTEND:20120402T193000
SUMMARY:Hopping Down the Bunny Trail
DESCRIPTION:Join us to celebrate&nbsp;with stories, crafts and a Easter Egg hunt! For all ages.
X-ALT-DESC;FMTTYPE=text/html:Join us to celebrate&nbsp;with stories, crafts and a Easter Egg hunt! For all ages.
LOCATION:Hemphill Branch Library\, 2301 West Vandalia Road Greensboro\, North Carolina 27407
CLASS:PUBLIC
END:VEVENT
END:VCALENDAR
