BEGIN:VCALENDAR
VERSION:2.0
PRODID:Greensboro, NC Calendar Creator
METHOD:PUBLISH
BEGIN:VEVENT
DTSTAMP:20180109T031834
DTSTART:20120324T100000
DTEND:20120324T140000
SUMMARY:Easter Eggstravaganza
DESCRIPTION:The egg hunts will be held for three age groups: ages 1-4 at 11 am; ages 5-7 at 12 noon; and ages 8-10 at 1 pm. Children are asked to bring their own baskets. The Easter Bunny will be on hand for pictures.&nbsp;Other activities&nbsp;include music, games, entertainment, inflatables, food and more. For more information, contact Linda Marsh at 336-274-3470. <br />
X-ALT-DESC;FMTTYPE=text/html:The egg hunts will be held for three age groups: ages 1-4 at 11 am; ages 5-7 at 12 noon; and ages 8-10 at 1 pm. Children are asked to bring their own baskets. The Easter Bunny will be on hand for pictures.&nbsp;Other activities&nbsp;include music, games, entertainment, inflatables, food and more. For more information, contact Linda Marsh at 336-274-3470. <br />
LOCATION:Jaycee Park football fields\, 3110 Forest Lawn Drive Greensboro\, North Carolina 
CLASS:PUBLIC
END:VEVENT
END:VCALENDAR
