BEGIN:VCALENDAR
VERSION:2.0
PRODID:Greensboro, NC Calendar Creator
METHOD:PUBLISH
BEGIN:VEVENT
DTSTAMP:20180109T031834
DTSTART:20120410T183000
DTEND:20120410T200000
SUMMARY:Teen Art Studio: Altered Books
DESCRIPTION:Make something new out of old books; all materials are provided. Open to teens ages 11-19. Please call 336-373-2925 or&nbsp;<a href="mailto:kelly.prewett@greensboro-nc.gov?subject=TAS" shape="rect">e-mail</a> to register.
X-ALT-DESC;FMTTYPE=text/html:Make something new out of old books; all materials are provided. Open to teens ages 11-19. Please call 336-373-2925 or&nbsp;<a href="mailto:kelly.prewett@greensboro-nc.gov?subject=TAS" shape="rect">e-mail</a> to register.
LOCATION:Hemphill Branch Library\, 2301 West Vandalia Rd. Greensboro\, North Carolina 27407
CLASS:PUBLIC
END:VEVENT
END:VCALENDAR
