BEGIN:VCALENDAR
VERSION:2.0
PRODID:Greensboro, NC Calendar Creator
METHOD:PUBLISH
BEGIN:VEVENT
DTSTAMP:20180109T031834
DTSTART:20110810T153000
DTEND:20110810T163000
SUMMARY:Summer Reading Finale
DESCRIPTION:<p>Oh, The Tales We'll Tell!</p><p>Enjoy magic, puppetry, and tales from around the world with Patti Cake!</p>
X-ALT-DESC;FMTTYPE=text/html:<p>Oh, The Tales We'll Tell!</p><p>Enjoy magic, puppetry, and tales from around the world with Patti Cake!</p>
LOCATION:Vance H. Chavis Branch\, 900 S. Benbow Road Greensboro\, North Carolina 27406
CLASS:PUBLIC
END:VEVENT
END:VCALENDAR
