BEGIN:VCALENDAR
VERSION:2.0
PRODID:Greensboro, NC Calendar Creator
METHOD:PUBLISH
BEGIN:VEVENT
DTSTAMP:20180109T031834
DTSTART:20120404T103000
DTEND:20120404T113000
SUMMARY:Bunnies, and Chicks, and Eggs! Oh My!
DESCRIPTION:Easter is right around the corner and bunnies, chicks, and eggs are everywhere. Join us for stories and art for this preschool storytime, ages 2-5.
X-ALT-DESC;FMTTYPE=text/html:Easter is right around the corner and bunnies, chicks, and eggs are everywhere. Join us for stories and art for this preschool storytime, ages 2-5.
LOCATION:Glenwood Branch Library\, 1901 W Florida Street Greensboro\, North Carolina 27403
CLASS:PUBLIC
END:VEVENT
END:VCALENDAR
