BEGIN:VCALENDAR
VERSION:2.0
PRODID:Greensboro, NC Calendar Creator
METHOD:PUBLISH
BEGIN:VEVENT
DTSTAMP:20180109T031834
DTSTART:20120410T183000
DTEND:20120410T193000
SUMMARY:Growing a Green Garden at Glenwood
DESCRIPTION:Growing a green garden is fun and smart. Bring the whole family to dig in the dirt and plant a few seeds. All ages welcome.
X-ALT-DESC;FMTTYPE=text/html:Growing a green garden is fun and smart. Bring the whole family to dig in the dirt and plant a few seeds. All ages welcome.
LOCATION:Glenwood Branch Library\, 1901 W Florida Street Greensboro\, North Carolina 27403
CLASS:PUBLIC
END:VEVENT
END:VCALENDAR
