BEGIN:VCALENDAR
VERSION:2.0
PRODID:Greensboro, NC Calendar Creator
METHOD:PUBLISH
BEGIN:VEVENT
DTSTAMP:20180109T031834
DTSTART:20120411T103000
DTEND:20120411T113000
SUMMARY:Growing Green!
DESCRIPTION:Everything is coming up green! Stories and art about growing things. This is a preschool storytime for ages 2-5.
X-ALT-DESC;FMTTYPE=text/html:Everything is coming up green! Stories and art about growing things. This is a preschool storytime for ages 2-5.
LOCATION:Glenwood Branch Library\, 1901 W Florida Street Greensboro\, North Carolina 27403
CLASS:PUBLIC
END:VEVENT
END:VCALENDAR
