BEGIN:VCALENDAR
VERSION:2.0
PRODID:Greensboro, NC Calendar Creator
METHOD:PUBLISH
BEGIN:VEVENT
DTSTAMP:20180109T031834
DTSTART:20120402T180000
DTEND:20120402T203000
SUMMARY:Teen Poetry Project Youth Slam
DESCRIPTION:In celebration of National Poetry Month, the Teen&nbsp;Poetry&nbsp;Project will host the first of several youth slams.&nbsp;This will help us&nbsp;select the new Gate City Youth Slam team that will compete in Brave New Voices, a national youth slam held in San&nbsp;Francisco in July.
X-ALT-DESC;FMTTYPE=text/html:In celebration of National Poetry Month, the Teen&nbsp;Poetry&nbsp;Project will host the first of several youth slams.&nbsp;This will help us&nbsp;select the new Gate City Youth Slam team that will compete in Brave New Voices, a national youth slam held in San&nbsp;Francisco in July.
LOCATION:McGirt-Horton Branch Library\, 2501 Phillips Ave. Greensboro\, North Carolina 27405
CLASS:PUBLIC
END:VEVENT
END:VCALENDAR
