BEGIN:VCALENDAR
VERSION:2.0
PRODID:Greensboro, NC Calendar Creator
METHOD:PUBLISH
BEGIN:VEVENT
DTSTAMP:20180109T031834
DTSTART:20120426T190000
DTEND:20120426T200000
SUMMARY:Alcohol Awareness for Teens 
DESCRIPTION:Alcohol and Drug Services will host an informative prevention and educational program for teens to make them aware of potential risks of alcohol and underage&nbsp;drinking.
X-ALT-DESC;FMTTYPE=text/html:Alcohol and Drug Services will host an informative prevention and educational program for teens to make them aware of potential risks of alcohol and underage&nbsp;drinking.
LOCATION:McGirt-Horton Branch Library\, 2501 Phillips Ave. Greensboro\, North Carolina 27405
CLASS:PUBLIC
END:VEVENT
END:VCALENDAR
