BEGIN:VCALENDAR
VERSION:2.0
PRODID:Greensboro, NC Calendar Creator
METHOD:PUBLISH
BEGIN:VEVENT
DTSTAMP:20180109T031834
DTSTART:20120312T100000
DTEND:20120313T115900
SUMMARY:Job & Career: Mock Interviews
DESCRIPTION:This mock interview will be like the real thing, and it will be videotaped for you to study to&nbsp;help perfect your interviewing technique. You will also&nbsp;receive valuable feedback and coaching on your performance. Bring your resume/work history and a mock job description for use in your interview. Also, if you want to download your videotaped interview, bring a flash drive. Register at 336-335-5430.
X-ALT-DESC;FMTTYPE=text/html:This mock interview will be like the real thing, and it will be videotaped for you to study to&nbsp;help perfect your interviewing technique. You will also&nbsp;receive valuable feedback and coaching on your performance. Bring your resume/work history and a mock job description for use in your interview. Also, if you want to download your videotaped interview, bring a flash drive. Register at 336-335-5430.
LOCATION:Central Library\, Room 208\, 219 N. Church Street Greensboro\, North Carolina 27402
CLASS:PUBLIC
END:VEVENT
END:VCALENDAR
