BEGIN:VCALENDAR
VERSION:2.0
PRODID:Greensboro, NC Calendar Creator
METHOD:PUBLISH
BEGIN:VEVENT
DTSTAMP:20180109T031834
DTSTART:20120411T143000
DTEND:20120411T235900
SUMMARY:School's Out Movie Matinee
DESCRIPTION:Join us for a showing of <em>Mary Poppins! </em>- Rated G -&nbsp;139 Minutes
X-ALT-DESC;FMTTYPE=text/html:Join us for a showing of <em>Mary Poppins! </em>- Rated G -&nbsp;139 Minutes
LOCATION:Central Library\, 219 N. Church St. Grensboro\, North Carolina 27401
CLASS:PUBLIC
END:VEVENT
END:VCALENDAR
