BEGIN:VCALENDAR
VERSION:2.0
PRODID:Greensboro, NC Calendar Creator
METHOD:PUBLISH
BEGIN:VEVENT
DTSTAMP:20180109T031834
DTSTART:20120404T160000
DTEND:20120404T174500
SUMMARY:After School Movie
DESCRIPTION:Who knew the Easter Bunny would be such a horrible house guest? Rated PG, 95 min, 2011.
X-ALT-DESC;FMTTYPE=text/html:Who knew the Easter Bunny would be such a horrible house guest? Rated PG, 95 min, 2011.
LOCATION:Vance H. Chavis Branch\, 900 S. Benbow Rd Greensboro\, North Carolina 27406
CLASS:PUBLIC
END:VEVENT
END:VCALENDAR
