BEGIN:VCALENDAR
VERSION:2.0
PRODID:Greensboro, NC Calendar Creator
METHOD:PUBLISH
BEGIN:VEVENT
DTSTAMP:20180109T031834
DTSTART:20110815T183000
DTEND:20110815T193000
SUMMARY:Fall Food Extending the Harvest 
DESCRIPTION:Learn how to maximize your yield and extend your harvest, learn about season extenders and keep your garden well past the first frost.
X-ALT-DESC;FMTTYPE=text/html:Learn how to maximize your yield and extend your harvest, learn about season extenders and keep your garden well past the first frost.
LOCATION:Kathleen Clay Edwards Library\, 1420 Price Park Rd. Greensboro\, North Carolina 27408
CLASS:PUBLIC
END:VEVENT
END:VCALENDAR
