BEGIN:VCALENDAR
VERSION:2.0
PRODID:Greensboro, NC Calendar Creator
METHOD:PUBLISH
BEGIN:VEVENT
DTSTAMP:20180109T031834
DTSTART:20120310T130000
DTEND:20120310T150000
SUMMARY:New Book Lovers Club - Author Visit
DESCRIPTION:Join the New Book Lovers as they welcome author Linda Joyce, who will discuss&nbsp;her book <em>Second Room on the Right</em>.
X-ALT-DESC;FMTTYPE=text/html:Join the New Book Lovers as they welcome author Linda Joyce, who will discuss&nbsp;her book <em>Second Room on the Right</em>.
LOCATION:Vance H. Chavis Branch\, 900 S. Benbow Rd. Greensboro\, North Carolina 27406
CLASS:PUBLIC
END:VEVENT
END:VCALENDAR
