BEGIN:VCALENDAR
VERSION:2.0
PRODID:Greensboro, NC Calendar Creator
METHOD:PUBLISH
BEGIN:VEVENT
DTSTAMP:20180109T031834
DTSTART:20120406T160000
DTEND:20120406T210000
SUMMARY:First Friday Indie Market
DESCRIPTION:This is the opening of an outdoor market for local handmade arts and crafts, which will operate&nbsp;in conjunction with Downtown Greensboro's First Friday event on the first Friday of every month from April to December. For more information, visit&nbsp;http://firstfridayindiemarkets.blogspot.com/.
X-ALT-DESC;FMTTYPE=text/html:This is the opening of an outdoor market for local handmade arts and crafts, which will operate&nbsp;in conjunction with Downtown Greensboro's First Friday event on the first Friday of every month from April to December. For more information, visit&nbsp;http://firstfridayindiemarkets.blogspot.com/.
LOCATION:MLK Public Parking Lot\, 500 S. Elm St. Greensboro\, North Carolina 27401
CLASS:PUBLIC
END:VEVENT
END:VCALENDAR
