BEGIN:VCALENDAR
VERSION:2.0
PRODID:Greensboro, NC Calendar Creator
METHOD:PUBLISH
BEGIN:VEVENT
DTSTAMP:20180109T031834
DTSTART:20110816T140000
DTEND:20110816T150000
SUMMARY:Fiction Book Club
DESCRIPTION:Join us for a discussion of fiction titles.&nbsp;New members are welcome.&nbsp;
X-ALT-DESC;FMTTYPE=text/html:Join us for a discussion of fiction titles.&nbsp;New members are welcome.&nbsp;
LOCATION:Kathleen Clay Edwards Library\, 1420 Price Park Rd. Greensboro\, North Carolina 27410
CLASS:PUBLIC
END:VEVENT
END:VCALENDAR
