BEGIN:VCALENDAR
VERSION:2.0
PRODID:Greensboro, NC Calendar Creator
METHOD:PUBLISH
BEGIN:VEVENT
DTSTAMP:20180109T031834
DTSTART:20120410T173000
DTEND:20120410T220000
SUMMARY:Kayaking
DESCRIPTION:<strong>Introduction to Kayaking</strong> <br />Topics covered include kayak equipment, safety, car topping, terminology, entering and exiting the kayak, controlling the kayak, strokes, and much more. All equipment is provided and class space is limited. Participants must be at least 13 years old; youth 13-15 must be accompanied by a parent. The class runs from 5:30-7:30 pm and the fee is $30 per person. <br /><br /><strong>Night Paddle</strong> <br />Watch the sunset and catch beautiful, rarely seen lake views on guided tours from 8-10 pm. These night paddles follow the same dates and locations as the intro to kayaking classes. Participants must be at least 13 years old; youth 13-15 must be accompanied by a parent. <br /><br />Night Paddle Pricing: <br /><em>Solo Kayak Rental - $15 <br />Tandem/Canoe Rental - $20 <br />Private Canoe/Kayak - $6</em> <br /><br />Pre-registration and payment is required for both classes. Reserve at class location or call 336-373-3816. More information is available on our <a href="http://www.greensboro-nc.gov/lakes" shape="rect">www.greensboro-nc.gov/lakes</a>. <br />
X-ALT-DESC;FMTTYPE=text/html:<strong>Introduction to Kayaking</strong> <br />Topics covered include kayak equipment, safety, car topping, terminology, entering and exiting the kayak, controlling the kayak, strokes, and much more. All equipment is provided and class space is limited. Participants must be at least 13 years old; youth 13-15 must be accompanied by a parent. The class runs from 5:30-7:30 pm and the fee is $30 per person. <br /><br /><strong>Night Paddle</strong> <br />Watch the sunset and catch beautiful, rarely seen lake views on guided tours from 8-10 pm. These night paddles follow the same dates and locations as the intro to kayaking classes. Participants must be at least 13 years old; youth 13-15 must be accompanied by a parent. <br /><br />Night Paddle Pricing: <br /><em>Solo Kayak Rental - $15 <br />Tandem/Canoe Rental - $20 <br />Private Canoe/Kayak - $6</em> <br /><br />Pre-registration and payment is required for both classes. Reserve at class location or call 336-373-3816. More information is available on our <a href="http://www.greensboro-nc.gov/lakes" shape="rect">www.greensboro-nc.gov/lakes</a>. <br />
LOCATION:Lake Higgins\, 4253 Hamburg Mill Rd. Summerfield\, North Carolina 27358
CLASS:PUBLIC
END:VEVENT
END:VCALENDAR
