BEGIN:VCALENDAR
VERSION:2.0
PRODID:Greensboro, NC Calendar Creator
METHOD:PUBLISH
BEGIN:VEVENT
DTSTAMP:20180109T031834
DTSTART:20120331T090000
DTEND:20120401T115900
SUMMARY:Human Race
DESCRIPTION:<p>This&nbsp;is a 5k charity walk and run that allows participants to raise money for their favorite nonprofit, such as an agency, church, school PTA, etc.&nbsp;Learn more at www.volunteergso.org/programs/2012-human-race/.&nbsp;<br />&nbsp;<br />Schedule <br />- 9 am &ndash; Gates Open <br />- 9-9:50 am &ndash; Submit Donations, Walkers Line Up, Runner Registration/Check-in <br />- 9:50 am &ndash; Opening Ceremony <br />- 10 am &ndash; Race Starts <br />- 10:30-11:45 am &ndash; After-Party, with food, fun, and live music <br />- 11:45 am &ndash; Awards Ceremony <br />- 12 noon &ndash; Conclusion</p><p>&nbsp;</p>
X-ALT-DESC;FMTTYPE=text/html:<p>This&nbsp;is a 5k charity walk and run that allows participants to raise money for their favorite nonprofit, such as an agency, church, school PTA, etc.&nbsp;Learn more at www.volunteergso.org/programs/2012-human-race/.&nbsp;<br />&nbsp;<br />Schedule <br />- 9 am &ndash; Gates Open <br />- 9-9:50 am &ndash; Submit Donations, Walkers Line Up, Runner Registration/Check-in <br />- 9:50 am &ndash; Opening Ceremony <br />- 10 am &ndash; Race Starts <br />- 10:30-11:45 am &ndash; After-Party, with food, fun, and live music <br />- 11:45 am &ndash; Awards Ceremony <br />- 12 noon &ndash; Conclusion</p><p>&nbsp;</p>
LOCATION:Greensboro Coliseum Complex\, 1921 W. Lee St. Greensboro\, North Carolina 27403
CLASS:PUBLIC
END:VEVENT
END:VCALENDAR
