BEGIN:VCALENDAR
VERSION:2.0
PRODID:Greensboro, NC Calendar Creator
METHOD:PUBLISH
BEGIN:VEVENT
DTSTAMP:20180109T031834
DTSTART:20120317T070000
DTEND:20120318T020000
SUMMARY:Pour House St. Patty's Day Festival
DESCRIPTION:St. Patrick's Day festival featuring live music all day. For more information, call&nbsp;336-333-2226.
X-ALT-DESC;FMTTYPE=text/html:St. Patrick's Day festival featuring live music all day. For more information, call&nbsp;336-333-2226.
LOCATION:Pour House\, 360 Federal Pl. Greensboro\, North Carolina 
CLASS:PUBLIC
END:VEVENT
END:VCALENDAR
