BEGIN:VCALENDAR
VERSION:2.0
PRODID:Greensboro, NC Calendar Creator
METHOD:PUBLISH
BEGIN:VEVENT
DTSTAMP:20180109T031834
DTSTART:20110818T140000
DTEND:20110818T150000
SUMMARY:Mystery Book Club
DESCRIPTION:Discussing <em>From Doon to Death</em>&nbsp;by Ruth Rendell.
X-ALT-DESC;FMTTYPE=text/html:Discussing <em>From Doon to Death</em>&nbsp;by Ruth Rendell.
LOCATION:Kathleen Clay Edwards Library\, 1420 Price Park Rd. Greensboro\, North Carolina 27410
CLASS:PUBLIC
END:VEVENT
END:VCALENDAR
