BEGIN:VCALENDAR
VERSION:2.0
PRODID:Greensboro, NC Calendar Creator
METHOD:PUBLISH
BEGIN:VEVENT
DTSTAMP:20180109T031834
DTSTART:20120310T140000
DTEND:20120310T180000
SUMMARY:Just Claim it 3 
DESCRIPTION:Features youth participating in the Just Claim it 3 Youth Conference this day will meet at Governmental Plaza to&nbsp;march to&nbsp;Center City Park for a public youth rally.&nbsp;<a href="http://www.jci3.org" target="_self">Learn more</a>.
X-ALT-DESC;FMTTYPE=text/html:Features youth participating in the Just Claim it 3 Youth Conference this day will meet at Governmental Plaza to&nbsp;march to&nbsp;Center City Park for a public youth rally.&nbsp;<a href="http://www.jci3.org" target="_self">Learn more</a>.
LOCATION:Governmental Plaza to Center City Park\, 300 W. Washington St. Greensboro\, North Carolina 27401
CLASS:PUBLIC
END:VEVENT
END:VCALENDAR
