BEGIN:VCALENDAR
VERSION:2.0
PRODID:Greensboro, NC Calendar Creator
METHOD:PUBLISH
BEGIN:VEVENT
DTSTAMP:20180109T031834
DTSTART:20120302T160000
DTEND:20120302T170000
SUMMARY:Read Across America
DESCRIPTION:Celebrate Dr. Seuss' birthday and join us for a literacy experience program. Enjoy stories, crafts, and entertainment presented by the Sigma Theta Lambda Literacy Sorority Inc.
X-ALT-DESC;FMTTYPE=text/html:Celebrate Dr. Seuss' birthday and join us for a literacy experience program. Enjoy stories, crafts, and entertainment presented by the Sigma Theta Lambda Literacy Sorority Inc.
LOCATION:McGirt-Horton Branch Library\, 2501 Phillips Ave. Greensboro\, North Carolina 27405
CLASS:PUBLIC
END:VEVENT
END:VCALENDAR
