BEGIN:VCALENDAR
VERSION:2.0
PRODID:Greensboro, NC Calendar Creator
METHOD:PUBLISH
BEGIN:VEVENT
DTSTAMP:20180109T031834
DTSTART:20120301T180000
DTEND:20120301T193000
SUMMARY:Community Budget Meeting - District 3
DESCRIPTION:
X-ALT-DESC;FMTTYPE=text/html:
LOCATION:Natural Science Center\, 4301 Lawndale Rd. Greensboro\, North Carolina 
CLASS:PUBLIC
END:VEVENT
END:VCALENDAR
