BEGIN:VCALENDAR
VERSION:2.0
PRODID:Greensboro, NC Calendar Creator
METHOD:PUBLISH
BEGIN:VEVENT
DTSTAMP:20180109T031834
DTSTART:20120216T160000
DTEND:20120216T235900
SUMMARY:Special Council Work Session
DESCRIPTION:To receive an update on the City's Compensation Study. <br /><br />
X-ALT-DESC;FMTTYPE=text/html:To receive an update on the City's Compensation Study. <br /><br />
LOCATION:Plaza Level Conference Room\, Melvin Municipal Office Building\, 300 W. Washington St. Greensboro\, North Carolina 
CLASS:PUBLIC
END:VEVENT
END:VCALENDAR
