BEGIN:VCALENDAR
VERSION:2.0
PRODID:Greensboro, NC Calendar Creator
METHOD:PUBLISH
BEGIN:VEVENT
DTSTAMP:20180109T031834
DTSTART:20120329T180000
DTEND:20120329T200000
SUMMARY:Planning Amazing Events
DESCRIPTION:Events can serve as useful outreach for many organizations. Marketing expert Renea Myers advises participants on the principles of hosting a positive and effective event.
X-ALT-DESC;FMTTYPE=text/html:Events can serve as useful outreach for many organizations. Marketing expert Renea Myers advises participants on the principles of hosting a positive and effective event.
LOCATION:Central Library\, 219 N. Church St. Greensboro\, North Carolina 27401
CLASS:PUBLIC
END:VEVENT
END:VCALENDAR
