BEGIN:VCALENDAR
VERSION:2.0
PRODID:Greensboro, NC Calendar Creator
METHOD:PUBLISH
BEGIN:VEVENT
DTSTAMP:20180109T031834
DTSTART:20120313T180000
DTEND:20120313T200000
SUMMARY:Financing Your Small Business
DESCRIPTION:Financing is a major concern for existing and potential businesses.&nbsp;This program covers various funding sources and gives advice on presenting a solid plan to funders.&nbsp;(This workshop does not include grant information.)
X-ALT-DESC;FMTTYPE=text/html:Financing is a major concern for existing and potential businesses.&nbsp;This program covers various funding sources and gives advice on presenting a solid plan to funders.&nbsp;(This workshop does not include grant information.)
LOCATION:Central Library\, 219 N. Church St. Greensboro\, North Carolina 27401
CLASS:PUBLIC
END:VEVENT
END:VCALENDAR
