BEGIN:VCALENDAR
VERSION:2.0
PRODID:Greensboro, NC Calendar Creator
METHOD:PUBLISH
BEGIN:VEVENT
DTSTAMP:20180109T031834
DTSTART:20120327T100000
DTEND:20120328T115900
SUMMARY:PC Literacy for Seniors
DESCRIPTION:What is e-mail and why do we use it?&nbsp;Learn the purposes of e-mail and, if time allows, create an e-mail address.
X-ALT-DESC;FMTTYPE=text/html:What is e-mail and why do we use it?&nbsp;Learn the purposes of e-mail and, if time allows, create an e-mail address.
LOCATION:Central Library\, 219 N. Church St. Greensboro\, North Carolina 27401
CLASS:PUBLIC
END:VEVENT
END:VCALENDAR
