BEGIN:VCALENDAR
VERSION:2.0
PRODID:Greensboro, NC Calendar Creator
METHOD:PUBLISH
BEGIN:VEVENT
DTSTAMP:20180109T031834
DTSTART:20120306T100000
DTEND:20120307T115900
SUMMARY:PC Literacy for Seniors
DESCRIPTION:Take a little quiz about simple computer tasks and practice holding and moving a mouse.
X-ALT-DESC;FMTTYPE=text/html:Take a little quiz about simple computer tasks and practice holding and moving a mouse.
LOCATION:Central Library\, 219 N. Church St. Greensboro\, North Carolina 27401
CLASS:PUBLIC
END:VEVENT
END:VCALENDAR
