BEGIN:VCALENDAR
VERSION:2.0
PRODID:Greensboro, NC Calendar Creator
METHOD:PUBLISH
BEGIN:VEVENT
DTSTAMP:20180109T031834
DTSTART:20120326T140000
DTEND:20120326T160000
SUMMARY:Games Around the World
DESCRIPTION:Games have been played since the beginning of time all around the world. Bring your competitive spirit and good sportsmanship for an afternoon of fun!
X-ALT-DESC;FMTTYPE=text/html:Games have been played since the beginning of time all around the world. Bring your competitive spirit and good sportsmanship for an afternoon of fun!
LOCATION:Glenwood Branch Library\, 1901 W Florida Street Greensboro\, North Carolina 27403
CLASS:PUBLIC
END:VEVENT
END:VCALENDAR
