BEGIN:VCALENDAR
VERSION:2.0
PRODID:Greensboro, NC Calendar Creator
METHOD:PUBLISH
BEGIN:VEVENT
DTSTAMP:20180109T031834
DTSTART:20120327T183000
DTEND:20120327T193000
SUMMARY:Family Art Night at Glenwood Library
DESCRIPTION:Celebrate the longer days with outdoor arts and crafts. This is a Family Night program and all ages are welcome.
X-ALT-DESC;FMTTYPE=text/html:Celebrate the longer days with outdoor arts and crafts. This is a Family Night program and all ages are welcome.
LOCATION:Glenwood Branch Library\, 1901 W Florida Street Greensboro\, North Carolina 27403
CLASS:PUBLIC
END:VEVENT
END:VCALENDAR
