BEGIN:VCALENDAR
VERSION:2.0
PRODID:Greensboro, NC Calendar Creator
METHOD:PUBLISH
BEGIN:VEVENT
DTSTAMP:20180109T031834
DTSTART:20120410T193000
DTEND:20120410T210000
SUMMARY:Poetry Reading “Toasts for Reynolds”
DESCRIPTION:In celebration of National Poetry Month, Duke University professor Vic Strandberg offers toasts and poetry in honor of local author and educator Reynolds Price.&nbsp;This program is&nbsp;free, but space is limited. Make your reservations by <a href="mailto:theatre@triadstage.org?subject=Reservation%20for%20April%2010%20OCOA%20Poetry%20Event" shape="rect">e-mail</a>&nbsp;or by calling Triad Stage at 336-272-0160.&nbsp; <br /><br />Strandberg's&nbsp;essay titled "Poetry of Reynolds Price" can be found&nbsp;<a href="http://dukespace.lib.duke.edu/dspace/" target="_self">online</a>&nbsp;under "Essays and Public Lectures."
X-ALT-DESC;FMTTYPE=text/html:In celebration of National Poetry Month, Duke University professor Vic Strandberg offers toasts and poetry in honor of local author and educator Reynolds Price.&nbsp;This program is&nbsp;free, but space is limited. Make your reservations by <a href="mailto:theatre@triadstage.org?subject=Reservation%20for%20April%2010%20OCOA%20Poetry%20Event" shape="rect">e-mail</a>&nbsp;or by calling Triad Stage at 336-272-0160.&nbsp; <br /><br />Strandberg's&nbsp;essay titled "Poetry of Reynolds Price" can be found&nbsp;<a href="http://dukespace.lib.duke.edu/dspace/" target="_self">online</a>&nbsp;under "Essays and Public Lectures."
LOCATION:Triad Stage Upstage Cabaret\, 232 S. Elm St. Greesnboro\, North Carolina 27401
CLASS:PUBLIC
END:VEVENT
END:VCALENDAR
