BEGIN:VCALENDAR
VERSION:2.0
PRODID:Greensboro, NC Calendar Creator
METHOD:PUBLISH
BEGIN:VEVENT
DTSTAMP:20180109T031834
DTSTART:20120319T183000
DTEND:20120319T193000
SUMMARY:Scavenger Hunt and Turtle Night
DESCRIPTION:Learn homework tips and&nbsp;how to find your favorite books with a library scavenger hunt. Also, discover the world of turtles&nbsp;with the help of&nbsp;a turtle expert. Scouts can earn badges for these programs.
X-ALT-DESC;FMTTYPE=text/html:Learn homework tips and&nbsp;how to find your favorite books with a library scavenger hunt. Also, discover the world of turtles&nbsp;with the help of&nbsp;a turtle expert. Scouts can earn badges for these programs.
LOCATION:Kathleen Clay Library\, 1420 Price Park Rd. Greensboro\, North Carolina 27410
CLASS:PUBLIC
END:VEVENT
END:VCALENDAR
