BEGIN:VCALENDAR
VERSION:2.0
PRODID:Greensboro, NC Calendar Creator
METHOD:PUBLISH
BEGIN:VEVENT
DTSTAMP:20180109T031834
DTSTART:20120328T160000
DTEND:20120328T170000
SUMMARY:You are an Artist
DESCRIPTION:Discover your art skills through stories, arts, and crafts.
X-ALT-DESC;FMTTYPE=text/html:Discover your art skills through stories, arts, and crafts.
LOCATION:McGirt-Horton Branch Library\, 2501 Phillips Ave. Greensboro\, North Carolina 27405
CLASS:PUBLIC
END:VEVENT
END:VCALENDAR
