BEGIN:VCALENDAR
VERSION:2.0
PRODID:Greensboro, NC Calendar Creator
METHOD:PUBLISH
BEGIN:VEVENT
DTSTAMP:20180109T031834
DTSTART:20120320T180000
DTEND:20120320T190000
SUMMARY:Celebrating National Nutrition Month
DESCRIPTION:Young ladies ages 12-18: Join our Girl Power fitness program. Girl Power is a series of workout programs like Zumba and Funky Fit to help keep you in shape and while maintaining a healthy lifestyle.
X-ALT-DESC;FMTTYPE=text/html:Young ladies ages 12-18: Join our Girl Power fitness program. Girl Power is a series of workout programs like Zumba and Funky Fit to help keep you in shape and while maintaining a healthy lifestyle.
LOCATION:McGirt-Horton Branch Library\, 2501 Phillips Ave. Greensboro\, North Carolina 27405
CLASS:PUBLIC
END:VEVENT
END:VCALENDAR
