BEGIN:VCALENDAR
VERSION:2.0
PRODID:Greensboro, NC Calendar Creator
METHOD:PUBLISH
BEGIN:VEVENT
DTSTAMP:20180109T031834
DTSTART:20120306T190000
DTEND:20120306T203000
SUMMARY:Dickens Bicentennial
DESCRIPTION:Book discussion of the Dickens novel, <em>Great Expectations.</em> Call Ronald Headen at 336-412-6199 or&nbsp;<a href="mailto:ronald.headen@greensboro-nc.gov?subject=book%20for%20dickens%20discussion" shape="rect">e-mail him</a>&nbsp;for a copy of the book.
X-ALT-DESC;FMTTYPE=text/html:Book discussion of the Dickens novel, <em>Great Expectations.</em> Call Ronald Headen at 336-412-6199 or&nbsp;<a href="mailto:ronald.headen@greensboro-nc.gov?subject=book%20for%20dickens%20discussion" shape="rect">e-mail him</a>&nbsp;for a copy of the book.
LOCATION:Central Library\, 219 N. Church St. Greesnboro\, North Carolina 27401
CLASS:PUBLIC
END:VEVENT
END:VCALENDAR
