BEGIN:VCALENDAR
VERSION:2.0
PRODID:Greensboro, NC Calendar Creator
METHOD:PUBLISH
BEGIN:VEVENT
DTSTAMP:20180109T031834
DTSTART:20120306T183000
DTEND:20120306T193000
SUMMARY:Bilingual Storytime
DESCRIPTION:Join us for bilingual&nbsp;fun in Spanish and English. This is a family storytime and all ages are welcome for stories, art, and more.
X-ALT-DESC;FMTTYPE=text/html:Join us for bilingual&nbsp;fun in Spanish and English. This is a family storytime and all ages are welcome for stories, art, and more.
LOCATION:Glenwood Branch Library\, 1901 W Florida Street Greensboro\, North Carolina 27403
CLASS:PUBLIC
END:VEVENT
END:VCALENDAR
