BEGIN:VCALENDAR
VERSION:2.0
PRODID:Greensboro, NC Calendar Creator
METHOD:PUBLISH
BEGIN:VEVENT
DTSTAMP:20180109T031834
DTSTART:20120306T184500
DTEND:20120306T210000
SUMMARY:Mona Lisa Smile Screening
DESCRIPTION:Julia Roberts stars as a nonconformist teacher at a 1950s private school who encourages students to pursue their individuality.
X-ALT-DESC;FMTTYPE=text/html:Julia Roberts stars as a nonconformist teacher at a 1950s private school who encourages students to pursue their individuality.
LOCATION:Hemphill Branch Library\, 2301 West Vandalia Road Greesnboro\, North Carolina 27407
CLASS:PUBLIC
END:VEVENT
END:VCALENDAR
