BEGIN:VCALENDAR
VERSION:2.0
PRODID:Greensboro, NC Calendar Creator
METHOD:PUBLISH
BEGIN:VEVENT
DTSTAMP:20180109T031834
DTSTART:20120315T103000
DTEND:20120315T111500
SUMMARY:Storytime at Benjamin Branch Library
DESCRIPTION:<strong>It's Not Easy Being Green</strong>: Join us for a toddler and preschool storytime with books, rhymes, a short film and a craft about frogs, turtles, snakes and alligators (oh, my!).
X-ALT-DESC;FMTTYPE=text/html:<strong>It's Not Easy Being Green</strong>: Join us for a toddler and preschool storytime with books, rhymes, a short film and a craft about frogs, turtles, snakes and alligators (oh, my!).
LOCATION:Benjamin Branch Library\, 1530 Benjamin Parkway Greensboro\, North Carolina 27408
CLASS:PUBLIC
END:VEVENT
END:VCALENDAR
