BEGIN:VCALENDAR
VERSION:2.0
PRODID:Greensboro, NC Calendar Creator
METHOD:PUBLISH
BEGIN:VEVENT
DTSTAMP:20180109T031834
DTSTART:20120326T103000
DTEND:20120326T110000
SUMMARY:Pre-School Storytime
DESCRIPTION:Join us for stories, songs and finger plays in the Children's Room!
X-ALT-DESC;FMTTYPE=text/html:Join us for stories, songs and finger plays in the Children's Room!
LOCATION:Central Library\, 219 North Church St Greensboro\, North Carolina 27401
CLASS:PUBLIC
END:VEVENT
END:VCALENDAR
