BEGIN:VCALENDAR
VERSION:2.0
PRODID:Greensboro, NC Calendar Creator
METHOD:PUBLISH
BEGIN:VEVENT
DTSTAMP:20180109T031834
DTSTART:20120327T120000
DTEND:20120327T130000
SUMMARY:Northeast Book Discussion Group
DESCRIPTION:We invite you to&nbsp;drop in on the Northeast Book Discussion Group and join us in discussing <em>Mudbound</em> by Hillary Jordan.&nbsp;Contact <a href="mailto:marilyn.waddell@greensboro-nc.gov?subject=Northeast%20Book%20Discussion%20Group" shape="rect">Marilyn Waddell</a>&nbsp;for more information and to borrow a copy of the book.
X-ALT-DESC;FMTTYPE=text/html:We invite you to&nbsp;drop in on the Northeast Book Discussion Group and join us in discussing <em>Mudbound</em> by Hillary Jordan.&nbsp;Contact <a href="mailto:marilyn.waddell@greensboro-nc.gov?subject=Northeast%20Book%20Discussion%20Group" shape="rect">Marilyn Waddell</a>&nbsp;for more information and to borrow a copy of the book.
LOCATION:Benjamin Branch Library\, 1530 Benjamin Parkway Greensboro\, North Carolina 27408
CLASS:PUBLIC
END:VEVENT
END:VCALENDAR
