BEGIN:VCALENDAR
VERSION:2.0
PRODID:Greensboro, NC Calendar Creator
METHOD:PUBLISH
BEGIN:VEVENT
DTSTAMP:20180109T031834
DTSTART:20110929T190000
DTEND:20110929T203000
SUMMARY:Family Fun Night
DESCRIPTION:Help celebrate Hispanic Heritage Month with stories, games, and crafts.
X-ALT-DESC;FMTTYPE=text/html:Help celebrate Hispanic Heritage Month with stories, games, and crafts.
LOCATION:Vance H. Chavis Branch\, 900 S. Benbow Road Greensboro\, North Carolina 27406
CLASS:PUBLIC
END:VEVENT
END:VCALENDAR
