BEGIN:VCALENDAR
VERSION:2.0
PRODID:Greensboro, NC Calendar Creator
METHOD:PUBLISH
BEGIN:VEVENT
DTSTAMP:20180109T031834
DTSTART:20120314T183000
DTEND:20120314T204500
SUMMARY:Teen Movie Night
DESCRIPTION:Based on the award-winning novel by Madeline L'Engle, watch as Mrs. Whatsit, Mrs. Who, and Mrs. Which guide children on a cosmic quest to find their dad. Rated PG, 128 min, 2003.
X-ALT-DESC;FMTTYPE=text/html:Based on the award-winning novel by Madeline L'Engle, watch as Mrs. Whatsit, Mrs. Who, and Mrs. Which guide children on a cosmic quest to find their dad. Rated PG, 128 min, 2003.
LOCATION:Vance H. Chavis Branch\, 900 S. Benbow Rd. Greensboro\, North Carolina 27406
CLASS:PUBLIC
END:VEVENT
END:VCALENDAR
