BEGIN:VCALENDAR
VERSION:2.0
PRODID:Greensboro, NC Calendar Creator
METHOD:PUBLISH
BEGIN:VEVENT
DTSTAMP:20180109T031834
DTSTART:20120209T160000
DTEND:20120209T190000
SUMMARY:Inaugural Gate City Minority Business Opportunity Fair
DESCRIPTION:The fair is open to minority- and women-owned businesses wanting to provide goods and services to local public universities, colleges, and government agencies.
X-ALT-DESC;FMTTYPE=text/html:The fair is open to minority- and women-owned businesses wanting to provide goods and services to local public universities, colleges, and government agencies.
LOCATION:Galleria Events Center\, 1325 S. Eugene St. Greensboro\, North Carolina 27406
CLASS:PUBLIC
END:VEVENT
END:VCALENDAR
