BEGIN:VCALENDAR
VERSION:2.0
PRODID:Greensboro, NC Calendar Creator
METHOD:PUBLISH
BEGIN:VEVENT
DTSTAMP:20180109T031834
DTSTART:20120227T173000
DTEND:20120227T235900
SUMMARY:Greensboro Board of Adjustment
DESCRIPTION:<a href="https://greensboro2.prod-as.govaccess.org/departments/planning/boards-commissions-meetings/board-of-adjustment-boa">More information.</a>
X-ALT-DESC;FMTTYPE=text/html:<a href="https://greensboro2.prod-as.govaccess.org/departments/planning/boards-commissions-meetings/board-of-adjustment-boa">More information.</a>
LOCATION:City Council Chamber\, 2nd Floor\, Melvin Municipal Office Building\, 300 West Washington Street Greensboro\, North Carolina 27401
CLASS:PUBLIC
END:VEVENT
END:VCALENDAR
