BEGIN:VCALENDAR
VERSION:2.0
PRODID:Greensboro, NC Calendar Creator
METHOD:PUBLISH
BEGIN:VEVENT
DTSTAMP:20180109T031834
DTSTART:20120315T180000
DTEND:20120315T200000
SUMMARY:Community Resource Board Meeting
DESCRIPTION:The agenda for this meeting will include a public hearing on a <a href="https://greensboro2.prod-as.govaccess.org/home/showpublisheddocument/13902/636510647144300000" target="_blank" shape="rect">proposed amendment to the FY 2011-12 Annual Action Plan</a>.
X-ALT-DESC;FMTTYPE=text/html:The agenda for this meeting will include a public hearing on a <a href="https://greensboro2.prod-as.govaccess.org/home/showpublisheddocument/13902/636510647144300000" target="_blank" shape="rect">proposed amendment to the FY 2011-12 Annual Action Plan</a>.
LOCATION:Plaza Level Conference Room\, Melvin Municipal Office Building\, 300 W. Washington St. Greensboro\, North Carolina 27401
CLASS:PUBLIC
END:VEVENT
END:VCALENDAR
