BEGIN:VCALENDAR
VERSION:2.0
PRODID:Greensboro, NC Calendar Creator
METHOD:PUBLISH
BEGIN:VEVENT
DTSTAMP:20180109T031834
DTSTART:20120128T100000
DTEND:20120129T115900
SUMMARY:Hayes-Taylor YMCA Relocation Meeting
DESCRIPTION:In conjunction with the Hayes-Taylor Memorial YMCA, the Greensboro Parks &amp; Recreation Department&nbsp;is hosting&nbsp;an informational meeting regarding the proposed relocation of the Hayes-Taylor Memorial YMCA to Barber Park. The public is invited to hear about the proposed YMCA relation and to receive updates on other exciting projects in the Florida Street/East Lee Street area. For more information, please call 336-373-2574.
X-ALT-DESC;FMTTYPE=text/html:In conjunction with the Hayes-Taylor Memorial YMCA, the Greensboro Parks &amp; Recreation Department&nbsp;is hosting&nbsp;an informational meeting regarding the proposed relocation of the Hayes-Taylor Memorial YMCA to Barber Park. The public is invited to hear about the proposed YMCA relation and to receive updates on other exciting projects in the Florida Street/East Lee Street area. For more information, please call 336-373-2574.
LOCATION:Gateway University Research Park South Campus Auditorium\, 2901 East Lee St. Greensboro\, North Carolina 
CLASS:PUBLIC
END:VEVENT
END:VCALENDAR
