BEGIN:VCALENDAR
VERSION:2.0
PRODID:Greensboro, NC Calendar Creator
METHOD:PUBLISH
BEGIN:VEVENT
DTSTAMP:20180109T031834
DTSTART:20120229T180000
DTEND:20120229T203000
SUMMARY:Book Lovers' Social
DESCRIPTION:Join us for&nbsp;our third annual&nbsp;celebration of <strong>Book Lovers' Month</strong> with&nbsp;area Book Discussion Groups at this social. Find a bookclub&nbsp;or learn how&nbsp;to start one.&nbsp;Connect with your fellow book lovers and vote for your favorite discussion books of 2011. And, see displays of upcoming hot, new books for 2012. The social also features door prizes, mocktails, food, and music.&nbsp;<strong>Register to attend by Monday, February 26</strong>, by&nbsp;e-mailing&nbsp;<a href="mailto:beth.sheffield@greensboro-nc.gov" shape="rect">Beth Sheffield</a> or calling 336-373-3617. Book and monetary donations will be accepted to benefit the Greensboro Public Library Book Discussion collection.
X-ALT-DESC;FMTTYPE=text/html:Join us for&nbsp;our third annual&nbsp;celebration of <strong>Book Lovers' Month</strong> with&nbsp;area Book Discussion Groups at this social. Find a bookclub&nbsp;or learn how&nbsp;to start one.&nbsp;Connect with your fellow book lovers and vote for your favorite discussion books of 2011. And, see displays of upcoming hot, new books for 2012. The social also features door prizes, mocktails, food, and music.&nbsp;<strong>Register to attend by Monday, February 26</strong>, by&nbsp;e-mailing&nbsp;<a href="mailto:beth.sheffield@greensboro-nc.gov" shape="rect">Beth Sheffield</a> or calling 336-373-3617. Book and monetary donations will be accepted to benefit the Greensboro Public Library Book Discussion collection.
LOCATION:Central Library\, 219 North Church St. Greensboro\, North Carolina 27401
CLASS:PUBLIC
END:VEVENT
END:VCALENDAR
