BEGIN:VCALENDAR
VERSION:2.0
PRODID:Greensboro, NC Calendar Creator
METHOD:PUBLISH
BEGIN:VEVENT
DTSTAMP:20180109T031834
DTSTART:20120211T130000
DTEND:20120211T150000
SUMMARY:Basic English Class
DESCRIPTION:Learn English and have fun! For beginning learners of English for Speakers of Other Languages (ESOL).&nbsp;To register,&nbsp;call Glenwood Branch Library at 336-297-5000.
X-ALT-DESC;FMTTYPE=text/html:Learn English and have fun! For beginning learners of English for Speakers of Other Languages (ESOL).&nbsp;To register,&nbsp;call Glenwood Branch Library at 336-297-5000.
LOCATION:Glenwood Branch Library\, 1901 W. Florida Street Greensboro\, North Carolina 27403
CLASS:PUBLIC
END:VEVENT
END:VCALENDAR
