BEGIN:VCALENDAR
VERSION:2.0
PRODID:Greensboro, NC Calendar Creator
METHOD:PUBLISH
BEGIN:VEVENT
DTSTAMP:20180109T031834
DTSTART:20120218T093000
DTEND:20120218T123000
SUMMARY:ESOL Computer Lab
DESCRIPTION:Come practice English using computer programs that teach English for Speakers of Other Languages (ESOL), such as Rosetta Stone and Ellis. No experience with computers is necessary and there will be a teacher to help whenever needed. This class is for all levels. To register, call Glenwood Branch Library at 336-297-5000.
X-ALT-DESC;FMTTYPE=text/html:Come practice English using computer programs that teach English for Speakers of Other Languages (ESOL), such as Rosetta Stone and Ellis. No experience with computers is necessary and there will be a teacher to help whenever needed. This class is for all levels. To register, call Glenwood Branch Library at 336-297-5000.
LOCATION:Glenwood Branch Library\, 1901 W Florida Street Greensboro\, North Carolina 27403
CLASS:PUBLIC
END:VEVENT
END:VCALENDAR
